BEGIN:VCALENDAR
VERSION:2.0
PRODID:-//flbfoundation.com//NONSGML kigkonsult.se iCalcreator 2.30.10//
CALSCALE:GREGORIAN
METHOD:PUBLISH
UID:ad67f1a0-71aa-4efe-8fd9-8da958e5d085
X-WR-CALDESC:
X-WR-RELCALID:b9efdf9e829e072532641c9a5cde1cb1
X-WR-TIMEZONE:America/New_York
BEGIN:VTIMEZONE
TZID:America/New_York
BEGIN:STANDARD
TZNAME:EST
DTSTART:20241103T020000
TZOFFSETFROM:-0400
TZOFFSETTO:-0500
RDATE:20251102T020000
RDATE:20261101T020000
END:STANDARD
BEGIN:DAYLIGHT
TZNAME:EDT
DTSTART:20250309T020000
TZOFFSETFROM:-0500
TZOFFSETTO:-0400
RDATE:20260308T020000
END:DAYLIGHT
END:VTIMEZONE
BEGIN:VEVENT
UID:89a6a0c1-431e-42d8-b1e3-e6ada0cf05a2
DTSTAMP:20260419T221036Z
DESCRIPTION:
DTSTART;TZID=America/New_York:20250609T180000
DTEND;TZID=America/New_York:20250609T190000
LOCATION:Fort LeBoeuf High School LIBRARY
SUMMARY:Monthly Foundation Meeting
END:VEVENT
END:VCALENDAR
