BEGIN:VCALENDAR
VERSION:2.0
PRODID:-//flbfoundation.com//NONSGML kigkonsult.se iCalcreator 2.30.10//
CALSCALE:GREGORIAN
METHOD:PUBLISH
UID:40fb5e68-4fbc-4490-bf77-340e8b126063
X-WR-CALDESC:
X-WR-RELCALID:42e5655a1342fe63a4fbf0ea6b91b46d
X-WR-TIMEZONE:America/New_York
BEGIN:VTIMEZONE
TZID:America/New_York
BEGIN:STANDARD
TZNAME:EST
DTSTART:20241103T020000
TZOFFSETFROM:-0400
TZOFFSETTO:-0500
RDATE:20251102T020000
RDATE:20261101T020000
END:STANDARD
BEGIN:DAYLIGHT
TZNAME:EDT
DTSTART:20250309T020000
TZOFFSETFROM:-0500
TZOFFSETTO:-0400
RDATE:20260308T020000
END:DAYLIGHT
END:VTIMEZONE
BEGIN:VEVENT
UID:3444403c-fc44-4271-8a4b-c40af942f53c
DTSTAMP:20260419T194525Z
DESCRIPTION:
DTSTART;TZID=America/New_York:20250714T180000
DTEND;TZID=America/New_York:20250714T190000
LOCATION:Fort LeBoeuf High School LIBRARY
SUMMARY:Monthly Foundation Meeting
END:VEVENT
END:VCALENDAR
