BEGIN:VCALENDAR
VERSION:2.0
PRODID:-//flbfoundation.com//NONSGML kigkonsult.se iCalcreator 2.30.10//
CALSCALE:GREGORIAN
METHOD:PUBLISH
UID:5cd83612-ebbc-424b-b9f5-625ae7a4fad0
X-WR-CALDESC:
X-WR-RELCALID:d80f7789cdeebb4dc98734ad491205f8
X-WR-TIMEZONE:America/New_York
BEGIN:VTIMEZONE
TZID:America/New_York
BEGIN:STANDARD
TZNAME:EST
DTSTART:20241103T020000
TZOFFSETFROM:-0400
TZOFFSETTO:-0500
RDATE:20251102T020000
RDATE:20261101T020000
END:STANDARD
BEGIN:DAYLIGHT
TZNAME:EDT
DTSTART:20250309T020000
TZOFFSETFROM:-0500
TZOFFSETTO:-0400
RDATE:20260308T020000
END:DAYLIGHT
END:VTIMEZONE
BEGIN:VEVENT
UID:854ce925-fa90-44a8-8082-c34818ad6139
DTSTAMP:20260419T174228Z
DESCRIPTION:
DTSTART;TZID=America/New_York:20250811T180000
DTEND;TZID=America/New_York:20250811T190000
LOCATION:Fort LeBoeuf High School LIBRARY
SUMMARY:Monthly Foundation Meeting
END:VEVENT
END:VCALENDAR
