BEGIN:VCALENDAR
VERSION:2.0
PRODID:-//flbfoundation.com//NONSGML kigkonsult.se iCalcreator 2.30.10//
CALSCALE:GREGORIAN
METHOD:PUBLISH
UID:85e8cccf-335e-4738-aec1-0a51d0e18d4e
X-WR-CALDESC:About Erie Gives\n\nEvery day at The Erie Community Foundation
  we help inspire\, engage and empower donors and communities to create a u
 nited\, vibrant region. Erie Gives is an important part of this mission as
  it is a way to engage thousands of donors in the great work of our region
 ’s nonprofit organizations – all leading to a healthier\, more economicall
 y robust and culturally rich community.\n\nErie Gives is the purest exampl
 e of collective giving whereby if everyone gives a little\, Erie Gives add
 s up to be a lot of financial support for nonprofits. It is the day when E
 VERYONE can be a philanthropist with a gift of $25 or more!\n\nRemember Tu
 esday\, August 12th!
X-WR-RELCALID:3f3dc2a8d200fd8982bc6f3869f844a6
X-WR-TIMEZONE:America/New_York
BEGIN:VTIMEZONE
TZID:America/New_York
BEGIN:STANDARD
TZNAME:EST
DTSTART:20241103T020000
TZOFFSETFROM:-0400
TZOFFSETTO:-0500
RDATE:20251102T020000
RDATE:20261101T020000
END:STANDARD
BEGIN:DAYLIGHT
TZNAME:EDT
DTSTART:20250309T020000
TZOFFSETFROM:-0500
TZOFFSETTO:-0400
RDATE:20260308T020000
END:DAYLIGHT
END:VTIMEZONE
BEGIN:VEVENT
UID:0a0fe5c0-2180-49f9-a0f8-84a1c23d9fcc
DTSTAMP:20260419T180520Z
DESCRIPTION:About Erie Gives\n\nEvery day at The Erie Community Foundation 
 we help inspire\, engage and empower donors and communities to create a un
 ited\, vibrant region. Erie Gives is an important part of this mission as 
 it is a way to engage thousands of donors in the great work of our region’
 s nonprofit organizations – all leading to a healthier\, more economically
  robust and culturally rich community.\n\nErie Gives is the purest example
  of collective giving whereby if everyone gives a little\, Erie Gives adds
  up to be a lot of financial support for nonprofits. It is the day when EV
 ERYONE can be a philanthropist with a gift of $25 or more!\n\nRemember Tue
 sday\, August 12th!
DTSTART;TZID=America/New_York:20250812T060000
DTEND;TZID=America/New_York:20250812T060001
LOCATION:https://www.eriegives.org/organizations/fort-leboeuf-school-distri
 ct-foundatoin
SUMMARY:Erie Gives
END:VEVENT
END:VCALENDAR
