BEGIN:VCALENDAR
VERSION:2.0
PRODID:-//flbfoundation.com//NONSGML kigkonsult.se iCalcreator 2.30.10//
CALSCALE:GREGORIAN
METHOD:PUBLISH
UID:7ff7767f-025c-4cb2-a399-c0fc8016ba87
X-WR-CALDESC:
X-WR-RELCALID:163cd8eb40c12ea5f031976063e7ef33
X-WR-TIMEZONE:America/New_York
BEGIN:VTIMEZONE
TZID:America/New_York
BEGIN:STANDARD
TZNAME:EST
DTSTART:20241103T020000
TZOFFSETFROM:-0400
TZOFFSETTO:-0500
RDATE:20251102T020000
RDATE:20261101T020000
END:STANDARD
BEGIN:DAYLIGHT
TZNAME:EDT
DTSTART:20250309T020000
TZOFFSETFROM:-0500
TZOFFSETTO:-0400
RDATE:20260308T020000
END:DAYLIGHT
END:VTIMEZONE
BEGIN:VEVENT
UID:ad01d5c2-eeea-49cb-8e74-02e2d58561e8
DTSTAMP:20260419T161510Z
DESCRIPTION:
DTSTART;TZID=America/New_York:20250908T180000
DTEND;TZID=America/New_York:20250908T190000
LOCATION:Fort LeBoeuf High School LIBRARY
SUMMARY:Monthly Foundation Meeting
END:VEVENT
END:VCALENDAR
