BEGIN:VCALENDAR
VERSION:2.0
PRODID:-//flbfoundation.com//NONSGML kigkonsult.se iCalcreator 2.30.10//
CALSCALE:GREGORIAN
METHOD:PUBLISH
UID:6c00ccdd-0c70-44ec-9fa7-3aeaf896a2bf
X-WR-CALDESC:
X-WR-RELCALID:5cf510bdb1a00b20bdc99bf0b7b439d2
X-WR-TIMEZONE:America/New_York
BEGIN:VTIMEZONE
TZID:America/New_York
BEGIN:STANDARD
TZNAME:EST
DTSTART:20241103T020000
TZOFFSETFROM:-0400
TZOFFSETTO:-0500
RDATE:20251102T020000
RDATE:20261101T020000
END:STANDARD
BEGIN:DAYLIGHT
TZNAME:EDT
DTSTART:20250309T020000
TZOFFSETFROM:-0500
TZOFFSETTO:-0400
RDATE:20260308T020000
RDATE:20270314T020000
END:DAYLIGHT
END:VTIMEZONE
BEGIN:VEVENT
UID:3179806c-18b2-48ef-b057-22a820d31264
DTSTAMP:20260419T142424Z
DESCRIPTION:
DTSTART;TZID=America/New_York:20251008T190000
DTEND;TZID=America/New_York:20251013T203000
LOCATION:Fort LeBoeuf High School LIBRARY
SUMMARY:Annual Foundation Meeting
END:VEVENT
END:VCALENDAR
