BEGIN:VCALENDAR
VERSION:2.0
PRODID:-//flbfoundation.com//NONSGML kigkonsult.se iCalcreator 2.30.10//
CALSCALE:GREGORIAN
METHOD:PUBLISH
UID:2daf8d98-b654-4828-af20-16b15c76afde
X-WR-CALDESC:
X-WR-RELCALID:653771c48339d5d087a96cfa9f3c39e9
X-WR-TIMEZONE:America/New_York
BEGIN:VTIMEZONE
TZID:America/New_York
BEGIN:STANDARD
TZNAME:EST
DTSTART:20241103T020000
TZOFFSETFROM:-0400
TZOFFSETTO:-0500
RDATE:20251102T020000
RDATE:20261101T020000
END:STANDARD
BEGIN:DAYLIGHT
TZNAME:EDT
DTSTART:20250309T020000
TZOFFSETFROM:-0500
TZOFFSETTO:-0400
RDATE:20260308T020000
RDATE:20270314T020000
END:DAYLIGHT
END:VTIMEZONE
BEGIN:VEVENT
UID:a667e940-5a4d-41fc-9725-6dee1ba27883
DTSTAMP:20260419T143646Z
DESCRIPTION:
DTSTART;TZID=America/New_York:20251018T180000
DTEND;TZID=America/New_York:20251018T220000
LOCATION:9085 Main St.\, McKean\, AL 16426 US
SUMMARY:Costumes and Cocktails
END:VEVENT
END:VCALENDAR
