BEGIN:VCALENDAR
VERSION:2.0
PRODID:-//flbfoundation.com//NONSGML kigkonsult.se iCalcreator 2.30.10//
CALSCALE:GREGORIAN
METHOD:PUBLISH
UID:6e509b68-38ec-4d0e-b961-53ac86aafe7a
X-WR-CALDESC:
X-WR-RELCALID:5e425f8cb2874bb43f88a62dea43d7c2
X-WR-TIMEZONE:America/New_York
BEGIN:VTIMEZONE
TZID:America/New_York
BEGIN:STANDARD
TZNAME:EST
DTSTART:20251102T020000
TZOFFSETFROM:-0400
TZOFFSETTO:-0500
RDATE:20261101T020000
END:STANDARD
BEGIN:DAYLIGHT
TZNAME:EDT
DTSTART:20250309T020000
TZOFFSETFROM:-0500
TZOFFSETTO:-0400
RDATE:20260308T020000
RDATE:20270314T020000
END:DAYLIGHT
END:VTIMEZONE
BEGIN:VEVENT
UID:7b765b08-94ca-46cb-8457-6005a16e9f02
DTSTAMP:20260419T125956Z
DESCRIPTION:
DTSTART;TZID=America/New_York:20251110T180000
DTEND;TZID=America/New_York:20251110T190000
LOCATION:Fort LeBoeuf High School LIBRARY
SUMMARY:Monthly Foundation Meeting
END:VEVENT
END:VCALENDAR
